BEGIN:VCALENDAR
VERSION:2.0
PRODID:-//wp-events-plugin.com//6.6.3//EN
TZID:America/Winnipeg
X-WR-TIMEZONE:America/Winnipeg
BEGIN:VEVENT
UID:1525@knoxwinnipeg.ca
DTSTART;TZID=America/Winnipeg:20200315T120000
DTEND;TZID=America/Winnipeg:20200315T130000
DTSTAMP:20200320T215613Z
URL:https://knoxwinnipeg.ca/events/prayer-outreach-2020-03-15/
SUMMARY:Prayer Outreach
DESCRIPTION:An outreach to folks in Central Park.
CATEGORIES:Knox Event
LOCATION:Central Park\, 400 Cumberland Ave.\, Winnipeg\, Manitoba\, R3A 0J7
 \, Canada
GEO:49.902752;-97.150093
X-APPLE-STRUCTURED-LOCATION;VALUE=URI;X-ADDRESS=400 Cumberland Ave.\, Winni
 peg\, Manitoba\, R3A 0J7\, Canada;X-APPLE-RADIUS=100;X-TITLE=Central Park:
 geo:49.902752,-97.150093
END:VEVENT
BEGIN:VTIMEZONE
TZID:America/Winnipeg
X-LIC-LOCATION:America/Winnipeg
BEGIN:DAYLIGHT
DTSTART:20200308T030000
TZOFFSETFROM:-0600
TZOFFSETTO:-0500
TZNAME:CDT
END:DAYLIGHT
END:VTIMEZONE
END:VCALENDAR