BEGIN:VCALENDAR
VERSION:2.0
PRODID:-//wp-events-plugin.com//6.6.3//EN
TZID:America/Winnipeg
X-WR-TIMEZONE:America/Winnipeg
BEGIN:VEVENT
UID:1523@knoxwinnipeg.ca
DTSTART;TZID=America/Winnipeg:20200301T120000
DTEND;TZID=America/Winnipeg:20200301T130000
DTSTAMP:20200320T215613Z
URL:https://knoxwinnipeg.ca/events/prayer-outreach-2020-03-01/
SUMMARY:Prayer Outreach
DESCRIPTION:An outreach to folks in Central Park.
CATEGORIES:Knox Event
LOCATION:Central Park\, 400 Cumberland Ave.\, Winnipeg\, Manitoba\, R3A 0J7
 \, Canada
GEO:49.902752;-97.150093
X-APPLE-STRUCTURED-LOCATION;VALUE=URI;X-ADDRESS=400 Cumberland Ave.\, Winni
 peg\, Manitoba\, R3A 0J7\, Canada;X-APPLE-RADIUS=100;X-TITLE=Central Park:
 geo:49.902752,-97.150093
END:VEVENT
BEGIN:VTIMEZONE
TZID:America/Winnipeg
X-LIC-LOCATION:America/Winnipeg
BEGIN:STANDARD
DTSTART:20191103T010000
TZOFFSETFROM:-0500
TZOFFSETTO:-0600
TZNAME:CST
END:STANDARD
END:VTIMEZONE
END:VCALENDAR