BEGIN:VCALENDAR
VERSION:2.0
PRODID:-//wp-events-plugin.com//6.6.3//EN
TZID:America/Winnipeg
X-WR-TIMEZONE:America/Winnipeg
BEGIN:VEVENT
UID:2534@knoxwinnipeg.ca
DTSTART;TZID=America/Winnipeg:20211223T120000
DTEND;TZID=America/Winnipeg:20211223T130000
DTSTAMP:20210908T144413Z
URL:https://knoxwinnipeg.ca/events/noon-break-aa-meeting-2021-12-23/
SUMMARY:Noon Break: AA Meeting
DESCRIPTION:A daily AA (Alcoholics Anonymous) group.  Du Val Parlour on ma
 in floor.
CATEGORIES:Knox Hub Event
LOCATION:Knox United Church (Centre)\, 406 Edmonton St.\, Winnipeg\, Manito
 ba\, R3B 2M2\, Canada
GEO:49.896013;-97.149617
X-APPLE-STRUCTURED-LOCATION;VALUE=URI;X-ADDRESS=406 Edmonton St.\, Winnipeg
 \, Manitoba\, R3B 2M2\, Canada;X-APPLE-RADIUS=100;X-TITLE=Knox United Chur
 ch (Centre):geo:49.896013,-97.149617
END:VEVENT
BEGIN:VTIMEZONE
TZID:America/Winnipeg
X-LIC-LOCATION:America/Winnipeg
BEGIN:STANDARD
DTSTART:20211107T010000
TZOFFSETFROM:-0500
TZOFFSETTO:-0600
TZNAME:CST
END:STANDARD
END:VTIMEZONE
END:VCALENDAR