BEGIN:VCALENDAR
VERSION:2.0
PRODID:-//wp-events-plugin.com//6.6.3//EN
TZID:America/Winnipeg
X-WR-TIMEZONE:America/Winnipeg
BEGIN:VEVENT
UID:3607@knoxwinnipeg.ca
DTSTART;TZID=America/Winnipeg:20250706T103000
DTEND;TZID=America/Winnipeg:20250706T120000
DTSTAMP:20240522T201948Z
URL:https://knoxwinnipeg.ca/events/intercultural-worship-2025-07-06/
SUMMARY:Intercultural Worship
DESCRIPTION:A Lively service.  Everyone is welcome. Masks are mandatory.
CATEGORIES:Knox Worship
END:VEVENT
BEGIN:VTIMEZONE
TZID:America/Winnipeg
X-LIC-LOCATION:America/Winnipeg
BEGIN:DAYLIGHT
DTSTART:20250309T030000
TZOFFSETFROM:-0600
TZOFFSETTO:-0500
TZNAME:CDT
END:DAYLIGHT
END:VTIMEZONE
END:VCALENDAR